BEGIN:VCALENDAR
VERSION:2.0
PRODID:-//all before dinner - ECPv6.15.20//NONSGML v1.0//EN
CALSCALE:GREGORIAN
METHOD:PUBLISH
X-WR-CALNAME:all before dinner
X-ORIGINAL-URL:https://allbeforedinner.com
X-WR-CALDESC:Events for all before dinner
REFRESH-INTERVAL;VALUE=DURATION:PT1H
X-Robots-Tag:noindex
X-PUBLISHED-TTL:PT1H
BEGIN:VTIMEZONE
TZID:UTC
BEGIN:STANDARD
TZOFFSETFROM:+0000
TZOFFSETTO:+0000
TZNAME:UTC
DTSTART:20250101T000000
END:STANDARD
END:VTIMEZONE
BEGIN:VEVENT
DTSTART;TZID=UTC:20260423T120000
DTEND;TZID=UTC:20260423T133000
DTSTAMP:20260423T100340
CREATED:20260221T144239Z
LAST-MODIFIED:20260221T144239Z
UID:748-1776945600-1776951000@allbeforedinner.com
SUMMARY:Lunch in Boca Raton
DESCRIPTION:Join ABD for lunch in Boca Raton. \nThis event is free for ABD members and their guests. RSVP for location details today!
URL:https://allbeforedinner.com/event/lunch-in-boca-raton-3/
END:VEVENT
END:VCALENDAR