BEGIN:VCALENDAR
VERSION:2.0
PRODID:-//all before dinner - ECPv6.15.20//NONSGML v1.0//EN
CALSCALE:GREGORIAN
METHOD:PUBLISH
X-WR-CALNAME:all before dinner
X-ORIGINAL-URL:https://allbeforedinner.com
X-WR-CALDESC:Events for all before dinner
REFRESH-INTERVAL;VALUE=DURATION:PT1H
X-Robots-Tag:noindex
X-PUBLISHED-TTL:PT1H
BEGIN:VTIMEZONE
TZID:UTC
BEGIN:STANDARD
TZOFFSETFROM:+0000
TZOFFSETTO:+0000
TZNAME:UTC
DTSTART:20230101T000000
END:STANDARD
END:VTIMEZONE
BEGIN:VEVENT
DTSTART;TZID=UTC:20240517T123000
DTEND;TZID=UTC:20240517T133000
DTSTAMP:20260423T084116
CREATED:20240417T131126Z
LAST-MODIFIED:20240417T131126Z
UID:331-1715949000-1715952600@allbeforedinner.com
SUMMARY:How to Hack Your Next Event\, with Andrea Glazer\, Founder and Event Planner at TwoTen
DESCRIPTION:Check your calendars for Zoom info!
URL:https://allbeforedinner.com/event/how-to-hack-your-next-event-with-andrea-glazer-founder-and-event-planner-at-twoten/
ATTACH;FMTTYPE=image/png:https://allbeforedinner.com/wp-content/uploads/2024/04/5.17.24-How-to-Hack-Your-Next-Big-Event-Two-Ten-2-2.png
END:VEVENT
END:VCALENDAR