BEGIN:VCALENDAR
VERSION:2.0
PRODID:-//all before dinner - ECPv6.15.20//NONSGML v1.0//EN
CALSCALE:GREGORIAN
METHOD:PUBLISH
X-ORIGINAL-URL:https://allbeforedinner.com
X-WR-CALDESC:Events for all before dinner
REFRESH-INTERVAL;VALUE=DURATION:PT1H
X-Robots-Tag:noindex
X-PUBLISHED-TTL:PT1H
BEGIN:VTIMEZONE
TZID:UTC
BEGIN:STANDARD
TZOFFSETFROM:+0000
TZOFFSETTO:+0000
TZNAME:UTC
DTSTART:20230101T000000
END:STANDARD
END:VTIMEZONE
BEGIN:VEVENT
DTSTART;TZID=UTC:20240506T120000
DTEND;TZID=UTC:20240506T130000
DTSTAMP:20260421T124525
CREATED:20240412T154010Z
LAST-MODIFIED:20240412T172039Z
UID:323-1714996800-1715000400@allbeforedinner.com
SUMMARY:Financial Wellness for Busy Women (live and streamed from Chicago)
DESCRIPTION:Join ABD members Christen Plotkin and Alyssa White (in-person in Chicago and streamed live on Zoom) from 12-1pm CST for a discussion on financial wellness for busy women. \nFor Chicago ABD members and guests\, free lunch will be held following the program. \nRSVP for Chicago location and Zoom link.
URL:https://allbeforedinner.com/event/financial-wellness-for-busy-women-live-and-streamed-from-chicago/
ATTACH;FMTTYPE=image/png:https://allbeforedinner.com/wp-content/uploads/2024/04/5.6.2023-Chicago-PD-event-4.png
END:VEVENT
END:VCALENDAR