BEGIN:VCALENDAR
VERSION:2.0
PRODID:-//all before dinner - ECPv6.15.20//NONSGML v1.0//EN
CALSCALE:GREGORIAN
METHOD:PUBLISH
X-ORIGINAL-URL:https://allbeforedinner.com
X-WR-CALDESC:Events for all before dinner
REFRESH-INTERVAL;VALUE=DURATION:PT1H
X-Robots-Tag:noindex
X-PUBLISHED-TTL:PT1H
BEGIN:VTIMEZONE
TZID:UTC
BEGIN:STANDARD
TZOFFSETFROM:+0000
TZOFFSETTO:+0000
TZNAME:UTC
DTSTART:20230101T000000
END:STANDARD
END:VTIMEZONE
BEGIN:VEVENT
DTSTART;TZID=UTC:20240426T123000
DTEND;TZID=UTC:20240426T133000
DTSTAMP:20260421T142100
CREATED:20240329T002442Z
LAST-MODIFIED:20240408T163830Z
UID:237-1714134600-1714138200@allbeforedinner.com
SUMMARY:Savoring Summer\, with Becca Phillips
DESCRIPTION:Join All Before Dinner for a discussion about planning your summer with purpose. Presented by Becca Phillips\, Executive and Personal Coach and Facilitator at Foundfully. \nThis event is free for non-members. \nClick here to RSVP for Zoom link. \nEverything changes once the kids are out of school. Between summer camps\, extended bedtimes\, and endless free time it can be a recipe for chaos and loads of mom guilt. Make the shift from surviving summer to savoring summer. Join us for a one-hour seminar tailored to working moms\, where we’ll delve into our motivations and priorities for the summer ahead. Let’s ensure your family’s summer is filled with purpose and aligned with your values.
URL:https://allbeforedinner.com/event/design-your-summer-with-becca-phillips/
ATTACH;FMTTYPE=image/png:https://allbeforedinner.com/wp-content/uploads/2024/03/4.26.2024-Design-Your-Summer-with-Becca-Phillips-2-x-3-in-1.png
END:VEVENT
END:VCALENDAR