BEGIN:VCALENDAR
VERSION:2.0
PRODID:-//all before dinner - ECPv6.15.20//NONSGML v1.0//EN
CALSCALE:GREGORIAN
METHOD:PUBLISH
X-ORIGINAL-URL:https://allbeforedinner.com
X-WR-CALDESC:Events for all before dinner
REFRESH-INTERVAL;VALUE=DURATION:PT1H
X-Robots-Tag:noindex
X-PUBLISHED-TTL:PT1H
BEGIN:VTIMEZONE
TZID:Atlantic/Azores
BEGIN:DAYLIGHT
TZOFFSETFROM:-0100
TZOFFSETTO:+0000
TZNAME:+00
DTSTART:20230326T010000
END:DAYLIGHT
BEGIN:STANDARD
TZOFFSETFROM:+0000
TZOFFSETTO:-0100
TZNAME:-01
DTSTART:20231029T010000
END:STANDARD
BEGIN:DAYLIGHT
TZOFFSETFROM:-0100
TZOFFSETTO:+0000
TZNAME:+00
DTSTART:20240331T010000
END:DAYLIGHT
BEGIN:STANDARD
TZOFFSETFROM:+0000
TZOFFSETTO:-0100
TZNAME:-01
DTSTART:20241027T010000
END:STANDARD
BEGIN:DAYLIGHT
TZOFFSETFROM:-0100
TZOFFSETTO:+0000
TZNAME:+00
DTSTART:20250330T010000
END:DAYLIGHT
BEGIN:STANDARD
TZOFFSETFROM:+0000
TZOFFSETTO:-0100
TZNAME:-01
DTSTART:20251026T010000
END:STANDARD
END:VTIMEZONE
BEGIN:VEVENT
DTSTART;TZID=Atlantic/Azores:20240226T170000
DTEND;TZID=Atlantic/Azores:20240226T200000
DTSTAMP:20260422T102347
CREATED:20240213T213059Z
LAST-MODIFIED:20240328T154816Z
UID:167-1708966800-1708977600@allbeforedinner.com
SUMMARY:Live from Austin: Powerhouse Public Speaking with Sammi Sadicario
DESCRIPTION:Are you ready to unlock the superpowers of your voice and become a magnetic communicator? This workshop for professional women\, led by Sammi Sadicario will provide a safe\, supportive\, and playful environment where you can unleash your true speaking potential and elevate your entrepreneurial game.  This event is free for members and $25 for non-members.
URL:https://allbeforedinner.com/event/live-from-austin-powerhouse-public-speaking-with-sammi-sadicario/
ATTACH;FMTTYPE=image/jpeg:https://allbeforedinner.com/wp-content/uploads/2024/02/2.26.24-Public-Speaking-ATX.jpg
END:VEVENT
END:VCALENDAR